Package: sva Version: 3.58.0 Command: rm -rf sva.buildbin-libdir && mkdir sva.buildbin-libdir && /Users/biocbuild/BBS/utils/build-universal.sh sva_3.58.0.tar.gz /Library/Frameworks/R.framework/Resources/bin/R sva.buildbin-libdir StartedAt: 2025-11-06 00:22:10 -0500 (Thu, 06 Nov 2025) EndedAt: 2025-11-06 00:22:19 -0500 (Thu, 06 Nov 2025) EllapsedTime: 9.2 seconds RetCode: 0 Status: OK PackageFile: sva_3.58.0.tgz PackageFileSize: 528.2 KiB