Package: survClust Version: 1.0.0 Command: /home/biocbuild/R/R/bin/R CMD INSTALL survClust StartedAt: 2025-02-10 20:50:43 -0000 (Mon, 10 Feb 2025) EndedAt: 2025-02-10 20:51:18 -0000 (Mon, 10 Feb 2025) EllapsedTime: 35.4 seconds RetCode: 0 Status: OK