Package: survClust Version: 1.0.0 Command: /home/biocbuild/R/R/bin/R CMD check --install=check:survClust.install-out.txt --library=/home/biocbuild/R/R/site-library --no-vignettes --timings survClust_1.0.0.tar.gz StartedAt: 2025-02-11 10:54:27 -0000 (Tue, 11 Feb 2025) EndedAt: 2025-02-11 10:57:42 -0000 (Tue, 11 Feb 2025) EllapsedTime: 195.3 seconds RetCode: 0 Status: WARNINGS CheckDir: survClust.Rcheck Warnings: 1