Package: survClust Version: 1.0.0 Command: /home/biocbuild/R/R/bin/R CMD build --keep-empty-dirs --no-resave-data survClust StartedAt: 2025-02-04 03:23:57 -0000 (Tue, 04 Feb 2025) EndedAt: 2025-02-04 03:27:08 -0000 (Tue, 04 Feb 2025) EllapsedTime: 190.4 seconds RetCode: 0 Status: OK PackageFile: survClust_1.0.0.tar.gz PackageFileSize: 666.5 KiB