Package: surfaltr Version: 1.12.0 Command: /home/biocbuild/R/R/bin/R CMD check --install=check:surfaltr.install-out.txt --library=/home/biocbuild/R/R/site-library --no-vignettes --timings surfaltr_1.12.0.tar.gz StartedAt: 2025-01-31 10:52:06 -0000 (Fri, 31 Jan 2025) EndedAt: 2025-01-31 10:54:20 -0000 (Fri, 31 Jan 2025) EllapsedTime: 134.1 seconds RetCode: 0 Status: OK CheckDir: surfaltr.Rcheck Warnings: 0