Package: surfaltr Version: 1.12.0 Command: /home/biocbuild/R/R/bin/R CMD build --keep-empty-dirs --no-resave-data surfaltr StartedAt: 2025-01-31 03:04:05 -0000 (Fri, 31 Jan 2025) EndedAt: 2025-01-31 03:04:38 -0000 (Fri, 31 Jan 2025) EllapsedTime: 33.0 seconds RetCode: 0 Status: OK PackageFile: surfaltr_1.12.0.tar.gz PackageFileSize: 3.118 MiB