Package: subSeq Version: 1.38.0 Command: /Library/Frameworks/R.framework/Resources/bin/R CMD check --install=check:subSeq.install-out.txt --library=/Library/Frameworks/R.framework/Resources/library --no-vignettes --timings subSeq_1.38.0.tar.gz StartedAt: 2025-04-21 23:56:12 -0400 (Mon, 21 Apr 2025) EndedAt: 2025-04-21 23:58:41 -0400 (Mon, 21 Apr 2025) EllapsedTime: 149.0 seconds RetCode: 0 Status: OK CheckDir: subSeq.Rcheck Warnings: 0