Package: subSeq Version: 1.38.0 Maintainer: Andrew J. Bass , John D. Storey MaintainerEmail: jstorey at princeton.edu git_url: https://git.bioconductor.org/packages/subSeq git_branch: RELEASE_3_21 git_last_commit: e7d5527 git_last_commit_date: 2025-04-15 10:56:18 -0400 (Tue, 15 Apr 2025)