Package: structToolbox Version: 1.20.0 Command: /home/biocbuild/R/R/bin/R CMD INSTALL structToolbox StartedAt: 2025-06-12 20:46:46 -0000 (Thu, 12 Jun 2025) EndedAt: 2025-06-12 20:47:37 -0000 (Thu, 12 Jun 2025) EllapsedTime: 50.6 seconds RetCode: 0 Status: OK