Package: struct Version: 1.18.0 Command: /home/biocbuild/R/R/bin/R CMD INSTALL struct StartedAt: 2025-01-30 20:15:25 -0000 (Thu, 30 Jan 2025) EndedAt: 2025-01-30 20:15:57 -0000 (Thu, 30 Jan 2025) EllapsedTime: 31.1 seconds RetCode: 0 Status: OK