Package: struct Version: 1.20.2 Command: rm -rf struct.buildbin-libdir && mkdir struct.buildbin-libdir && E:\biocbuild\bbs-3.21-bioc\R\bin\R.exe CMD INSTALL --build --library=struct.buildbin-libdir struct_1.20.2.tar.gz StartedAt: 2025-08-15 10:25:28 -0400 (Fri, 15 Aug 2025) EndedAt: 2025-08-15 10:26:49 -0400 (Fri, 15 Aug 2025) EllapsedTime: 81.0 seconds RetCode: 0 Status: OK PackageFile: struct_1.20.2.zip PackageFileSize: 1.547 MiB