Package: struct Version: 1.20.0 Command: /Library/Frameworks/R.framework/Resources/bin/R CMD INSTALL struct StartedAt: 2025-04-21 15:25:45 -0400 (Mon, 21 Apr 2025) EndedAt: 2025-04-21 15:26:21 -0400 (Mon, 21 Apr 2025) EllapsedTime: 35.2 seconds RetCode: 0 Status: OK