Package: struct Version: 1.20.0 Command: /Library/Frameworks/R.framework/Resources/bin/R CMD check --install=check:struct.install-out.txt --library=/Library/Frameworks/R.framework/Resources/library --no-vignettes --timings struct_1.20.0.tar.gz StartedAt: 2025-04-21 23:55:54 -0400 (Mon, 21 Apr 2025) EndedAt: 2025-04-21 23:59:10 -0400 (Mon, 21 Apr 2025) EllapsedTime: 196.3 seconds RetCode: 1 Status: ERROR CheckDir: struct.Rcheck Warnings: NA