Package: struct Version: 1.20.1 Maintainer: Gavin Rhys Lloyd MaintainerEmail: g.r.lloyd at bham.ac.uk git_url: https://git.bioconductor.org/packages/struct git_branch: RELEASE_3_21 git_last_commit: 0d4f5fd git_last_commit_date: 2025-04-24 04:03:31 -0400 (Thu, 24 Apr 2025)