Package: strandCheckR Version: 1.24.0 Command: /home/biocbuild/R/R/bin/R CMD build --keep-empty-dirs --no-resave-data strandCheckR StartedAt: 2025-01-31 03:01:06 -0000 (Fri, 31 Jan 2025) EndedAt: 2025-01-31 03:02:19 -0000 (Fri, 31 Jan 2025) EllapsedTime: 73.0 seconds RetCode: 0 Status: OK PackageFile: strandCheckR_1.24.0.tar.gz PackageFileSize: 933.9 KiB