Package: stPipe Version: 1.0.0 Command: /Library/Frameworks/R.framework/Resources/bin/R CMD build --keep-empty-dirs --no-resave-data stPipe StartedAt: 2025-11-10 17:55:09 -0500 (Mon, 10 Nov 2025) EndedAt: 2025-11-10 18:03:22 -0500 (Mon, 10 Nov 2025) EllapsedTime: 492.4 seconds RetCode: 0 Status: OK PackageFile: stPipe_1.0.0.tar.gz PackageFileSize: 5.871 MiB