Package: stPipe Version: 1.0.0 Command: rm -rf stPipe.buildbin-libdir && mkdir stPipe.buildbin-libdir && /Users/biocbuild/BBS/utils/build-universal.sh stPipe_1.0.0.tar.gz /Library/Frameworks/R.framework/Resources/bin/R stPipe.buildbin-libdir StartedAt: 2025-11-10 23:38:41 -0500 (Mon, 10 Nov 2025) EndedAt: 2025-11-10 23:39:00 -0500 (Mon, 10 Nov 2025) EllapsedTime: 19.5 seconds RetCode: 0 Status: OK PackageFile: stPipe_1.0.0.tgz PackageFileSize: 7.046 MiB