Package: ssviz Version: 1.42.0 Command: /Library/Frameworks/R.framework/Resources/bin/R CMD INSTALL ssviz StartedAt: 2025-05-01 15:27:01 -0400 (Thu, 01 May 2025) EndedAt: 2025-05-01 15:27:34 -0400 (Thu, 01 May 2025) EllapsedTime: 33.5 seconds RetCode: 0 Status: OK