Package: sscu Version: 2.38.0 Command: /Library/Frameworks/R.framework/Resources/bin/R CMD build --keep-empty-dirs --no-resave-data sscu StartedAt: 2025-05-01 22:46:20 -0400 (Thu, 01 May 2025) EndedAt: 2025-05-01 22:46:51 -0400 (Thu, 01 May 2025) EllapsedTime: 31.5 seconds RetCode: 0 Status: OK PackageFile: sscu_2.38.0.tar.gz PackageFileSize: 1.287 MiB