Package: srnadiff Version: 1.26.0 Command: /Library/Frameworks/R.framework/Resources/bin/R CMD build --keep-empty-dirs --no-resave-data srnadiff StartedAt: 2025-01-30 23:13:03 -0500 (Thu, 30 Jan 2025) EndedAt: 2025-01-30 23:19:54 -0500 (Thu, 30 Jan 2025) EllapsedTime: 411.7 seconds RetCode: 0 Status: OK PackageFile: srnadiff_1.26.0.tar.gz PackageFileSize: 2.426 MiB