Package: squallms Version: 1.2.0 Command: /Library/Frameworks/R.framework/Resources/bin/R CMD INSTALL squallms StartedAt: 2025-05-08 17:00:04 -0400 (Thu, 08 May 2025) EndedAt: 2025-05-08 17:00:05 -0400 (Thu, 08 May 2025) EllapsedTime: 1.2 seconds RetCode: 1 Status: ERROR