Package: spqn Version: 1.20.0 Command: /home/biocbuild/R/R/bin/R CMD check --install=check:spqn.install-out.txt --library=/home/biocbuild/R/R/site-library --no-vignettes --timings spqn_1.20.0.tar.gz StartedAt: 2025-05-06 14:03:58 -0000 (Tue, 06 May 2025) EndedAt: 2025-05-06 14:30:24 -0000 (Tue, 06 May 2025) EllapsedTime: 1586.7 seconds RetCode: 0 Status: OK CheckDir: spqn.Rcheck Warnings: 0