Package: splots Version: 1.74.0 Command: /home/biocbuild/R/R/bin/R CMD build --keep-empty-dirs --no-resave-data splots StartedAt: 2025-05-06 04:45:02 -0000 (Tue, 06 May 2025) EndedAt: 2025-05-06 04:45:50 -0000 (Tue, 06 May 2025) EllapsedTime: 48.0 seconds RetCode: 0 Status: OK PackageFile: splots_1.74.0.tar.gz PackageFileSize: 651.3 KiB