Package: splineTimeR Version: 1.36.0 Command: /Library/Frameworks/R.framework/Resources/bin/R CMD INSTALL splineTimeR StartedAt: 2025-04-21 15:09:38 -0400 (Mon, 21 Apr 2025) EndedAt: 2025-04-21 15:09:44 -0400 (Mon, 21 Apr 2025) EllapsedTime: 6.0 seconds RetCode: 0 Status: OK