Package: splineTimeR Version: 1.36.0 Command: rm -rf splineTimeR.buildbin-libdir && mkdir splineTimeR.buildbin-libdir && /Users/biocbuild/BBS/utils/build-universal.sh splineTimeR_1.36.0.tar.gz /Library/Frameworks/R.framework/Resources/bin/R splineTimeR.buildbin-libdir StartedAt: 2025-04-21 22:53:54 -0400 (Mon, 21 Apr 2025) EndedAt: 2025-04-21 22:54:01 -0400 (Mon, 21 Apr 2025) EllapsedTime: 7.1 seconds RetCode: 0 Status: OK PackageFile: splineTimeR_1.36.0.tgz PackageFileSize: 1.266 MiB