Package: spiky Version: 1.14.0 Command: /Library/Frameworks/R.framework/Resources/bin/R CMD INSTALL spiky StartedAt: 2025-05-01 15:57:04 -0400 (Thu, 01 May 2025) EndedAt: 2025-05-01 15:58:28 -0400 (Thu, 01 May 2025) EllapsedTime: 84.3 seconds RetCode: 0 Status: OK