Package: spiky Version: 1.14.0 Command: /Library/Frameworks/R.framework/Resources/bin/R CMD build --keep-empty-dirs --no-resave-data spiky StartedAt: 2025-05-01 22:41:15 -0400 (Thu, 01 May 2025) EndedAt: 2025-05-01 22:44:36 -0400 (Thu, 01 May 2025) EllapsedTime: 200.4 seconds RetCode: 0 Status: OK PackageFile: spiky_1.14.0.tar.gz PackageFileSize: 14.31 MiB