Package: spiky Version: 1.14.0 Command: rm -rf spiky.buildbin-libdir && mkdir spiky.buildbin-libdir && /Users/biocbuild/BBS/utils/build-universal.sh spiky_1.14.0.tar.gz /Library/Frameworks/R.framework/Resources/bin/R spiky.buildbin-libdir StartedAt: 2025-05-02 14:35:30 -0400 (Fri, 02 May 2025) EndedAt: 2025-05-02 14:37:23 -0400 (Fri, 02 May 2025) EllapsedTime: 113.3 seconds RetCode: 0 Status: OK PackageFile: spiky_1.14.0.tgz PackageFileSize: 15.24 MiB