Package: spiky Version: 1.14.0 Command: /Library/Frameworks/R.framework/Resources/bin/R CMD build --keep-empty-dirs --no-resave-data spiky StartedAt: 2025-04-21 18:35:12 -0400 (Mon, 21 Apr 2025) EndedAt: 2025-04-21 18:37:05 -0400 (Mon, 21 Apr 2025) EllapsedTime: 112.9 seconds RetCode: 0 Status: OK PackageFile: spiky_1.14.0.tar.gz PackageFileSize: 14.31 MiB