Package: spiky Version: 1.14.0 Command: /home/biocbuild/R/R/bin/R CMD INSTALL spiky StartedAt: 2025-04-21 20:47:22 -0000 (Mon, 21 Apr 2025) EndedAt: 2025-04-21 20:48:19 -0000 (Mon, 21 Apr 2025) EllapsedTime: 56.8 seconds RetCode: 0 Status: OK