Package: spicyR Version: 1.20.5 Command: /home/biocbuild/bbs-3.21-bioc/R/bin/R CMD build --keep-empty-dirs --no-resave-data spicyR StartedAt: 2025-10-01 20:09:55 -0400 (Wed, 01 Oct 2025) EndedAt: 2025-10-01 20:14:37 -0400 (Wed, 01 Oct 2025) EllapsedTime: 281.3 seconds RetCode: 0 Status: OK PackageFile: spicyR_1.20.5.tar.gz PackageFileSize: 3.175 MiB