Package: spicyR Version: 1.20.0 Maintainer: Ellis Patrick MaintainerEmail: ellis.patrick at sydney.edu.au git_url: https://git.bioconductor.org/packages/spicyR git_branch: RELEASE_3_21 git_last_commit: c7a8a18 git_last_commit_date: 2025-04-15 11:56:18 -0400 (Tue, 15 Apr 2025)