Package: spatzie Version: 1.12.0 Command: /home/biocbuild/R/R/bin/R CMD INSTALL spatzie StartedAt: 2025-01-30 20:46:06 -0000 (Thu, 30 Jan 2025) EndedAt: 2025-01-30 20:47:14 -0000 (Thu, 30 Jan 2025) EllapsedTime: 68.9 seconds RetCode: 0 Status: OK