Package: spatzie Version: 1.14.0 Maintainer: Jennifer Hammelman MaintainerEmail: jhammelm at mit.edu git_url: https://git.bioconductor.org/packages/spatzie git_branch: RELEASE_3_21 git_last_commit: 2e38273 git_last_commit_date: 2025-04-15 12:36:00 -0400 (Tue, 15 Apr 2025)