Package: spatialSimGP Version: 1.2.0 Command: /home/biocbuild/bbs-3.21-bioc/R/bin/R CMD INSTALL spatialSimGP StartedAt: 2025-10-01 15:35:44 -0400 (Wed, 01 Oct 2025) EndedAt: 2025-10-01 15:36:07 -0400 (Wed, 01 Oct 2025) EllapsedTime: 23.1 seconds RetCode: 0 Status: OK