Package: spatialSimGP Version: 1.2.0 Command: /home/biocbuild/bbs-3.21-bioc/R/bin/R CMD build --keep-empty-dirs --no-resave-data spatialSimGP StartedAt: 2025-10-01 20:08:44 -0400 (Wed, 01 Oct 2025) EndedAt: 2025-10-01 20:09:45 -0400 (Wed, 01 Oct 2025) EllapsedTime: 61.0 seconds RetCode: 0 Status: OK PackageFile: spatialSimGP_1.2.0.tar.gz PackageFileSize: 695.9 KiB