Package: spatialSimGP Version: 1.2.0 Command: /Library/Frameworks/R.framework/Resources/bin/R CMD check --install=check:spatialSimGP.install-out.txt --library=/Library/Frameworks/R.framework/Resources/library --no-vignettes --timings spatialSimGP_1.2.0.tar.gz StartedAt: 2025-05-16 10:25:59 -0400 (Fri, 16 May 2025) EndedAt: 2025-05-16 10:32:40 -0400 (Fri, 16 May 2025) EllapsedTime: 400.8 seconds RetCode: 0 Status: OK CheckDir: spatialSimGP.Rcheck Warnings: 0