Package: spatialSimGP Version: 1.2.0 Command: /Library/Frameworks/R.framework/Resources/bin/R CMD build --keep-empty-dirs --no-resave-data spatialSimGP StartedAt: 2025-05-15 22:53:58 -0400 (Thu, 15 May 2025) EndedAt: 2025-05-15 22:56:02 -0400 (Thu, 15 May 2025) EllapsedTime: 123.5 seconds RetCode: 0 Status: OK PackageFile: spatialSimGP_1.2.0.tar.gz PackageFileSize: 732.5 KiB