Package: spatialSimGP Version: 1.2.0 Command: /home/biocbuild/R/R/bin/R CMD INSTALL spatialSimGP StartedAt: 2025-05-15 20:48:01 -0000 (Thu, 15 May 2025) EndedAt: 2025-05-15 20:48:34 -0000 (Thu, 15 May 2025) EllapsedTime: 32.8 seconds RetCode: 0 Status: OK