Package: spatialSimGP Version: 1.2.0 Command: /home/biocbuild/R/R/bin/R CMD check --install=check:spatialSimGP.install-out.txt --library=/home/biocbuild/R/R/site-library --no-vignettes --timings spatialSimGP_1.2.0.tar.gz StartedAt: 2025-05-16 13:32:38 -0000 (Fri, 16 May 2025) EndedAt: 2025-05-16 13:37:17 -0000 (Fri, 16 May 2025) EllapsedTime: 279.2 seconds RetCode: 0 Status: OK CheckDir: spatialSimGP.Rcheck Warnings: 0