Package: spatialSimGP Version: 1.2.0 Command: /Library/Frameworks/R.framework/Resources/bin/R CMD check --install=check:spatialSimGP.install-out.txt --library=/Library/Frameworks/R.framework/Resources/library --no-vignettes --timings spatialSimGP_1.2.0.tar.gz StartedAt: 2025-04-21 21:51:21 -0400 (Mon, 21 Apr 2025) EndedAt: 2025-04-21 21:52:42 -0400 (Mon, 21 Apr 2025) EllapsedTime: 81.0 seconds RetCode: 0 Status: OK CheckDir: spatialSimGP.Rcheck Warnings: 0