Package: spatialSimGP Version: 1.2.0 Command: rm -rf spatialSimGP.buildbin-libdir && mkdir spatialSimGP.buildbin-libdir && /Users/biocbuild/BBS/utils/build-universal.sh spatialSimGP_1.2.0.tar.gz /Library/Frameworks/R.framework/Resources/bin/R spatialSimGP.buildbin-libdir StartedAt: 2025-04-21 22:53:41 -0400 (Mon, 21 Apr 2025) EndedAt: 2025-04-21 22:53:53 -0400 (Mon, 21 Apr 2025) EllapsedTime: 11.3 seconds RetCode: 0 Status: OK PackageFile: spatialSimGP_1.2.0.tgz PackageFileSize: 744.7 KiB