Package: spatialSimGP Version: 1.2.0 Command: /Library/Frameworks/R.framework/Resources/bin/R CMD INSTALL spatialSimGP StartedAt: 2025-07-14 16:57:18 -0400 (Mon, 14 Jul 2025) EndedAt: 2025-07-14 16:57:45 -0400 (Mon, 14 Jul 2025) EllapsedTime: 27.9 seconds RetCode: 0 Status: OK