Package: spatialSimGP Version: 1.2.0 Command: /Library/Frameworks/R.framework/Resources/bin/R CMD check --install=check:spatialSimGP.install-out.txt --library=/Library/Frameworks/R.framework/Resources/library --no-vignettes --timings spatialSimGP_1.2.0.tar.gz StartedAt: 2025-05-21 10:45:12 -0400 (Wed, 21 May 2025) EndedAt: 2025-05-21 10:49:04 -0400 (Wed, 21 May 2025) EllapsedTime: 232.4 seconds RetCode: 0 Status: OK CheckDir: spatialSimGP.Rcheck Warnings: 0