Package: spatialSimGP Version: 1.2.0 Command: /Library/Frameworks/R.framework/Resources/bin/R CMD build --keep-empty-dirs --no-resave-data spatialSimGP StartedAt: 2025-07-22 09:21:46 -0400 (Tue, 22 Jul 2025) EndedAt: 2025-07-22 09:23:09 -0400 (Tue, 22 Jul 2025) EllapsedTime: 82.7 seconds RetCode: 0 Status: OK PackageFile: spatialSimGP_1.2.0.tar.gz PackageFileSize: 735.9 KiB