Package: spatialHeatmap Version: 2.12.1 Command: /home/biocbuild/R/R/bin/R CMD INSTALL spatialHeatmap StartedAt: 2025-01-30 21:01:02 -0000 (Thu, 30 Jan 2025) EndedAt: 2025-01-30 21:01:54 -0000 (Thu, 30 Jan 2025) EllapsedTime: 52.2 seconds RetCode: 0 Status: OK