Package: spatialHeatmap Version: 2.12.1 Command: /home/biocbuild/R/R/bin/R CMD check --install=check:spatialHeatmap.install-out.txt --library=/home/biocbuild/R/R/site-library --no-vignettes --timings spatialHeatmap_2.12.1.tar.gz StartedAt: 2025-01-31 10:38:36 -0000 (Fri, 31 Jan 2025) EndedAt: 2025-01-31 10:46:07 -0000 (Fri, 31 Jan 2025) EllapsedTime: 451.4 seconds RetCode: 0 Status: OK CheckDir: spatialHeatmap.Rcheck Warnings: 0