Package: spatialHeatmap Version: 2.14.1 Command: rm -rf spatialHeatmap.buildbin-libdir && mkdir spatialHeatmap.buildbin-libdir && E:\biocbuild\bbs-3.21-bioc\R\bin\R.exe CMD INSTALL --build --library=spatialHeatmap.buildbin-libdir spatialHeatmap_2.14.1.tar.gz StartedAt: 2025-08-15 10:22:41 -0400 (Fri, 15 Aug 2025) EndedAt: 2025-08-15 10:25:08 -0400 (Fri, 15 Aug 2025) EllapsedTime: 147.4 seconds RetCode: 0 Status: OK PackageFile: spatialHeatmap_2.14.1.zip PackageFileSize: 27.81 MiB