Package: spatialHeatmap Version: 2.12.1 Command: rm -rf spatialHeatmap.buildbin-libdir && mkdir spatialHeatmap.buildbin-libdir && /Users/biocbuild/BBS/utils/build-universal.sh spatialHeatmap_2.12.1.tar.gz /Library/Frameworks/R.framework/Resources/bin/R spatialHeatmap.buildbin-libdir StartedAt: 2025-01-04 16:42:37 -0500 (Sat, 04 Jan 2025) EndedAt: 2025-01-04 16:43:38 -0500 (Sat, 04 Jan 2025) EllapsedTime: 60.7 seconds RetCode: 0 Status: OK PackageFile: spatialHeatmap_2.12.1.tgz PackageFileSize: 32.17 MiB