Package: spatialFDA Version: 1.2.0 Command: /home/biocbuild/bbs-3.22-bioc/R/bin/R CMD INSTALL spatialFDA StartedAt: 2025-11-06 15:27:58 -0500 (Thu, 06 Nov 2025) EndedAt: 2025-11-06 15:28:31 -0500 (Thu, 06 Nov 2025) EllapsedTime: 33.0 seconds RetCode: 0 Status: OK